BEGIN:VCALENDAR
VERSION:2.0
PRODID:-//CPIFP Bajo Aragon - ECPv6.0.13.1//NONSGML v1.0//EN
CALSCALE:GREGORIAN
METHOD:PUBLISH
X-WR-CALNAME:CPIFP Bajo Aragon
X-ORIGINAL-URL:https://cpifpbajoaragon.com
X-WR-CALDESC:Eventos para CPIFP Bajo Aragon
REFRESH-INTERVAL;VALUE=DURATION:PT1H
X-Robots-Tag:noindex
X-PUBLISHED-TTL:PT1H
BEGIN:VTIMEZONE
TZID:Europe/Madrid
BEGIN:DAYLIGHT
TZOFFSETFROM:+0100
TZOFFSETTO:+0200
TZNAME:CEST
DTSTART:20240331T010000
END:DAYLIGHT
BEGIN:STANDARD
TZOFFSETFROM:+0200
TZOFFSETTO:+0100
TZNAME:CET
DTSTART:20241027T010000
END:STANDARD
END:VTIMEZONE
BEGIN:VEVENT
DTSTART;TZID=Europe/Madrid:20241212T090000
DTEND;TZID=Europe/Madrid:20241212T140000
DTSTAMP:20260422T115000
CREATED:20241128T122821Z
LAST-MODIFIED:20241128T122821Z
UID:8494-1733994000-1734012000@cpifpbajoaragon.com
SUMMARY:Charla de Simón sobre domótica inalámbrica y punto de recarga para vehículo eléctrico
DESCRIPTION:Charla de Simón sobre domótica inalámbrica y punto de recarga para vehículo eléctrico. \nAlumnos de ELS1 y ELS2 9-11h en TEE2. \nAlumnos de ELM1 11:40h-12:40h en TEE6. \nAlumnos de FPB2 13:00h-14:00h en TEE5.
URL:https://cpifpbajoaragon.com/evento/charla-de-simon-sobre-domotica-inalambrica-y-punto-de-recarga-para-vehiculo-electrico/
CATEGORIES:Electricidad
ATTACH;FMTTYPE=image/jpeg:https://cpifpbajoaragon.com/wp-content/uploads/2024/11/foto-simon-db9fbaa838a485efd0a3cd6fd73494f9.jpg
END:VEVENT
BEGIN:VEVENT
DTSTART;TZID=Europe/Madrid:20241218T120000
DTEND;TZID=Europe/Madrid:20241218T123000
DTSTAMP:20260422T115000
CREATED:20241205T105223Z
LAST-MODIFIED:20241205T105223Z
UID:8517-1734523200-1734525000@cpifpbajoaragon.com
SUMMARY:CHARLA INFORMATIVA ERASMUS+
DESCRIPTION:Reunión informativa sobre las becas Erasmus+ del curso 24/25 para realizar 4-5 semanas de su FCT en Europa. La reunión es para TODO el alumnado de 2º de Grado Medio de todas las familias profesionales del centro. \nEl alumnado deberá acudir al aula polivalente (edificio nuevo) a las 11:50 acompañados del docente correspondiente.
URL:https://cpifpbajoaragon.com/evento/charla-informativa-erasmus/
CATEGORIES:Administrativo,Automoción,Electricidad,Erasmus+,Informática,Sanitaria
ATTACH;FMTTYPE=image/png:https://cpifpbajoaragon.com/wp-content/uploads/2024/12/Copia-de-Happy-Europe-Day-Poster-bc3f3001e1dea89453fc68af21d7c19f.png
END:VEVENT
BEGIN:VEVENT
DTSTART;TZID=Europe/Madrid:20241219T093000
DTEND;TZID=Europe/Madrid:20241219T213000
DTSTAMP:20260422T115000
CREATED:20241205T105157Z
LAST-MODIFIED:20241205T105157Z
UID:8519-1734600600-1734643800@cpifpbajoaragon.com
SUMMARY:2º CONCURSO JERSEYS NAVIDEÑOS
DESCRIPTION:Segunda edición del Concurso de Jerseys Navideños del CPIFP Bajo Aragón el próximo jueves 19 de diciembre. Concurso abierto a docentes\, PAS y alumnado. Colgaremos imágenes de los jerseys participantes en nuestras RRSS de cara a realizar una votación con el resto del centro como el año pasado.
URL:https://cpifpbajoaragon.com/evento/2o-concurso-jerseys-navidenos/
CATEGORIES:Administrativo,Automoción,Dpto. Inglés,Electricidad,FOL,Informática,Sanitaria
ATTACH;FMTTYPE=image/png:https://cpifpbajoaragon.com/wp-content/uploads/2024/12/CONCURSO-DE-JERSEYS-NAVIDEÑOS-67bff4893a2e947bf627ee8415dc6a7c.png
END:VEVENT
END:VCALENDAR